BEGIN:VCALENDAR
VERSION:2.0
PRODID:-//eventon.com NONSGML v1.0//EN
CALSCALE:GREGORIAN
METHOD:PUBLISH
BEGIN:VEVENT
UID:69e887d280ae6
DTSTAMP:20260422T083322Z
DTSTART:20210711T033000Z
DTEND:20210725T200000Z
LOCATION:Salmentie 75\,  Otalampi\,  Vihti Salmentie 75\,  Otalampi\,  Vihti
SUMMARY:Iltarastit Salmi
DESCRIPTION:Paikka: Salmi Kartta: Salmi. 2\,  4\,  4V ja 5 radat ovat mitta
 kaavassa 1:7500.\nhttps://iltarastit.fi/events/iltarastit-salmi/
URL:https://iltarastit.fi/events/iltarastit-salmi/
END:VEVENT
END:VCALENDAR