BEGIN:VCALENDAR
VERSION:2.0
PRODID:-//eventon.com NONSGML v1.0//EN
CALSCALE:GREGORIAN
METHOD:PUBLISH
BEGIN:VEVENT
UID:69e9dbe30a71d
DTSTAMP:20260423T084419Z
DTSTART:20210912T070000Z
DTEND:20210925T160000Z
LOCATION:Kunnarlantie 110\,  Espoo Kunnarlantie 112\,  Espoo
SUMMARY:Iltarastit Pirttimäki
DESCRIPTION:Paikka: Pirttimäki Kartta: Isosuo. 2\,  4\,  4V ja 5 radat ova
 t mittakaavassa 1:7500.\nhttps://iltarastit.fi/events/iltarastit-pirttimaki
 -3/
URL:https://iltarastit.fi/events/iltarastit-pirttimaki-3/
END:VEVENT
END:VCALENDAR