BEGIN:VCALENDAR
VERSION:2.0
PRODID:-//eventon.com NONSGML v1.0//EN
CALSCALE:GREGORIAN
METHOD:PUBLISH
BEGIN:VEVENT
UID:69e9dcc40443b
DTSTAMP:20260423T084804Z
DTSTART:20220510T133000Z
DTEND:20220510T170000Z
LOCATION:Rinnekodintie 30\,  Espoo Rinnekodintie 30\,  Espoo
SUMMARY:Firmaliiga Rinnekoti
DESCRIPTION:Kartta: Halkolampi Ratamestari: Ville Lampinen F radat ovat mit
 takaavassa 1:7500.\nhttps://iltarastit.fi/events/firmaliiga-rinnekoti-2/
URL:https://iltarastit.fi/events/firmaliiga-rinnekoti-2/
END:VEVENT
END:VCALENDAR