BEGIN:VCALENDAR
VERSION:2.0
PRODID:-//eventon.com NONSGML v1.0//EN
CALSCALE:GREGORIAN
METHOD:PUBLISH
BEGIN:VEVENT
UID:69e61d205f157
DTSTAMP:20260420T123336Z
DTSTART:20220613T133000Z
DTEND:20220613T170000Z
LOCATION:Luukintie 33\,  Espoo Luukintie 33\,  Espoo
SUMMARY:Iltarastit Luukki
DESCRIPTION:Kartta: Halkolampi Ratamestari: Katja Lahtinen 2\,  4\,  4V\,  
 5 radat ovat mittakaavassa 1:7500.\nhttps://iltarastit.fi/events/iltarastit
 -luukki-6/
URL:https://iltarastit.fi/events/iltarastit-luukki-6/
END:VEVENT
END:VCALENDAR