BEGIN:VCALENDAR
VERSION:2.0
PRODID:-//eventon.com NONSGML v1.0//EN
CALSCALE:GREGORIAN
METHOD:PUBLISH
BEGIN:VEVENT
UID:69e9ddf36469f
DTSTAMP:20260423T085307Z
DTSTART:20240520T133000Z
DTEND:20240520T170000Z
LOCATION:Pirkkolantie 23\,  Helsinki Pirkkolantie 23\,  Helsinki
SUMMARY:Iltarastit Pirkkola
DESCRIPTION:Kartta: Paloheinä-Pirkkola | Ratamestari: Mika ja Eerika Ranta
 la | 2; 3\, 5; 4V\,  5 radat ovat mittakaavassa 1:7500. | Ratavalikoima: 2;
  3\, 5; 4V; 5; 7\nhttps://iltarastit.fi/events/iltarastit-pirkkola-13/
URL:https://iltarastit.fi/events/iltarastit-pirkkola-13/
END:VEVENT
END:VCALENDAR