BEGIN:VCALENDAR
VERSION:2.0
PRODID:-//eventon.com NONSGML v1.0//EN
CALSCALE:GREGORIAN
METHOD:PUBLISH
BEGIN:VEVENT
UID:69e887d24e7be
DTSTAMP:20260422T083322Z
DTSTART:20240701T133000Z
DTEND:20240701T170000Z
LOCATION:Pakilantie 124\,  Helsinki Pakilantie 124\,  Helsinki
SUMMARY:Iltarastit Paloheinä
DESCRIPTION:Kartta: Paloheinä | Ratamestari: Jeppe Koivula | 2; 3\, 5; 4V\
 ,  5 radat ovat mittakaavassa 1:7500. | Ratavalikoima: 2; 3\, 5; 4V; 5; 7\n
 https://iltarastit.fi/events/iltarastit-paloheina-15/
URL:https://iltarastit.fi/events/iltarastit-paloheina-15/
END:VEVENT
END:VCALENDAR