BEGIN:VCALENDAR
VERSION:2.0
PRODID:-//eventon.com NONSGML v1.0//EN
CALSCALE:GREGORIAN
METHOD:PUBLISH
BEGIN:VEVENT
UID:69e8355358fd7
DTSTAMP:20260422T024123Z
DTSTART:20240708T133000Z
DTEND:20240708T170000Z
LOCATION:Salmentie 75\,  Otalampi\,  Vihti Salmentie 75\,  Otalampi\,  Vihti
SUMMARY:Iltarastit Salmi
DESCRIPTION:Kartta: Salmi | Ratamestari: Miikka Hilke | 2; 3\, 5; 4V\,  5 r
 adat ovat mittakaavassa 1:7500. | Ratavalikoima: 2; 3\, 5; 4V; 5; 7; 9\nhtt
 ps://iltarastit.fi/events/iltarastit-salmi-5/
URL:https://iltarastit.fi/events/iltarastit-salmi-5/
END:VEVENT
END:VCALENDAR