BEGIN:VCALENDAR
VERSION:2.0
PRODID:-//eventon.com NONSGML v1.0//EN
CALSCALE:GREGORIAN
METHOD:PUBLISH
BEGIN:VEVENT
UID:69eb3366980cb
DTSTAMP:20260424T090958Z
DTSTART:20240923T133000Z
DTEND:20240923T170000Z
LOCATION:Kunnarlantie 110–112\,  Espoo Kunnarlantie 112\,  Espoo
SUMMARY:Iltarastit Pirttimäki
DESCRIPTION:Kartta: Isosuo | Ratamestari: Ville-Matti Tarvonen | 2; 3\, 5; 
 4V\,  5 radat ovat mittakaavassa 1:7500. | Ratavalikoima: 2; 3\, 5; 4V; 5; 
 7; 9\nhttps://iltarastit.fi/events/iltarastit-pirttimaki-13/
URL:https://iltarastit.fi/events/iltarastit-pirttimaki-13/
END:VEVENT
END:VCALENDAR