BEGIN:VCALENDAR
VERSION:2.0
PRODID:-//eventon.com NONSGML v1.0//EN
CALSCALE:GREGORIAN
METHOD:PUBLISH
BEGIN:VEVENT
UID:69e889a3f2cc1
DTSTAMP:20260422T084107Z
DTSTART:20250826T133000Z
DTEND:20250826T170000Z
LOCATION:
SUMMARY:Firmaliiga Kurjolampi
DESCRIPTION:Kartta: Tervalampi-Kattila | Ratamestari: Ollipekka Heikkilä |
  E ja F radat ovat mittakaavassa 1:7500. | Ratavalikoima:\nhttps://iltarast
 it.fi/events/firmaliiga-kurjolampi/
URL:https://iltarastit.fi/events/firmaliiga-kurjolampi/
END:VEVENT
END:VCALENDAR