BEGIN:VCALENDAR
VERSION:2.0
PRODID:-//eventon.com NONSGML v1.0//EN
CALSCALE:GREGORIAN
METHOD:PUBLISH
BEGIN:VEVENT
UID:69e889da16f63
DTSTAMP:20260422T084202Z
DTSTART:20260406T103000Z
DTEND:20260406T140000Z
LOCATION:ItÃ¤reimarintien ja Vuotien risteys\,  Helsinki ItÃ¤reimarintien ja Vuotien risteys\,  Helsinki
SUMMARY:Iltarastit Uutela
DESCRIPTION:Kartta: Uutela | Ratamestari: Arttu SyrjÃ¤lÃ¤inen | kaikki rada
 t ovat mittakaavassa 1:7500. | Ratavalikoima: 2; 3\, 5; 4V; 5 | Rastit kerÃ
 ¤tÃ¤Ã¤n maastosta 2026-04-19\nhttps://iltarastit.fi/events/iltarastit-uutel
 a-10/
URL:https://iltarastit.fi/events/iltarastit-uutela-10/
END:VEVENT
END:VCALENDAR