BEGIN:VCALENDAR
VERSION:2.0
PRODID:-//eventon.com NONSGML v1.0//EN
CALSCALE:GREGORIAN
METHOD:PUBLISH
BEGIN:VEVENT
UID:69e888daac830
DTSTAMP:20260422T083746Z
DTSTART:20260921T103000Z
DTEND:20260921T140000Z
LOCATION:Savikiekontie 6\,  Helsinki Savikiekontie 6\,  Helsinki
SUMMARY:Iltarastit Kivikko
DESCRIPTION:Kartta: Kivikko | Ratamestari: Elina Vitikka ja Heini Jokinen |
  kaikki radat ovat mittakaavassa 1:7500. | Ratavalikoima: 2; 3\, 5; 4V; 5 |
  Rastit kerätään maastosta 2026-10-04\nhttps://iltarastit.fi/events/ilta
 rastit-kivikko-9/
URL:https://iltarastit.fi/events/iltarastit-kivikko-9/
END:VEVENT
END:VCALENDAR